BEGIN:VCALENDAR
VERSION:2.0
PRODID:-//ChamberMaster//Event Calendar 2.0//EN
METHOD:PUBLISH
X-PUBLISHED-TTL:P3D
REFRESH-INTERVAL:P3D
CALSCALE:GREGORIAN
BEGIN:VEVENT
DTSTART:20180725T010000Z
DTEND:20180725T030000Z
X-MICROSOFT-CDO-ALLDAYEVENT:FALSE
SUMMARY:Coffee and CREAM
DESCRIPTION:Do Your Research! is the topic for July's Coffee & CREAM
X-ALT-DESC;FMTTYPE=text/html:Do Your Research! is the topic for July&#39\;s Coffee &amp\; CREAM
LOCATION:Callaway Chamber of Commerce 510 Market Street Fulton MO 65251
UID:e.1836.10331
SEQUENCE:3
DTSTAMP:20260426T041614Z
URL:https://business.callawaychamber.net/events/details/coffee-and-cream-10331
END:VEVENT

END:VCALENDAR
