BEGIN:VCALENDAR
VERSION:2.0
PRODID:-//ChamberMaster//Event Calendar 2.0//EN
METHOD:PUBLISH
X-PUBLISHED-TTL:P3D
REFRESH-INTERVAL:P3D
CALSCALE:GREGORIAN
BEGIN:VEVENT
DTSTART:20180828T130000Z
DTEND:20180828T150000Z
X-MICROSOFT-CDO-ALLDAYEVENT:FALSE
SUMMARY:Coffee and CREAM
DESCRIPTION:August Workshop for August is about Business Plan Basics with Sherry Major from the Missouri Women's Business Center.  Get a crash course in what it takes to build a business plan that will guide you and "WOW" investors\, bankers and stakeholders.
X-ALT-DESC;FMTTYPE=text/html:August Workshop for August is about Business Plan Basics with Sherry Major from the Missouri Women&#39\;s Business Center.&nbsp\; Get a crash course in what it takes to build a business plan that will guide you and &quot\;WOW&quot\; investors\, bankers and stakeholders.&nbsp\;&nbsp\;&nbsp\;&nbsp\;
LOCATION:Callaway Chamber of Commerce 510 Market Street Fulton MO 65251
UID:e.1836.10373
SEQUENCE:3
DTSTAMP:20260420T031625Z
URL:https://business.callawaychamber.net/events/details/coffee-and-cream-10373
END:VEVENT

END:VCALENDAR
