BEGIN:VCALENDAR
VERSION:2.0
PRODID:-//ChamberMaster//Event Calendar 2.0//EN
METHOD:PUBLISH
X-PUBLISHED-TTL:P3D
REFRESH-INTERVAL:P3D
CALSCALE:GREGORIAN
BEGIN:VEVENT
DTSTART:20180925T130000Z
DTEND:20180925T150000Z
X-MICROSOFT-CDO-ALLDAYEVENT:FALSE
SUMMARY:Coffee and CREAM
DESCRIPTION:LET"S TALK BRANDING!\n\nPresenter Gillian Tracey learning the difference between building a memorable brand and having top-notch branding and how you can use them to grow your business.
X-ALT-DESC;FMTTYPE=text/html:LET&quot\;S TALK BRANDING!<br />\nPresenter Gillian Tracey learning the difference between building a memorable brand and having top-notch branding and how you can use them to grow your business.
LOCATION:Callaway Chamber of Commerce 510 Market Street Fulton\, MO 65251
UID:e.1836.10377
SEQUENCE:3
DTSTAMP:20260426T011121Z
URL:https://business.callawaychamber.net/events/details/coffee-and-cream-10377
END:VEVENT

END:VCALENDAR
