BEGIN:VCALENDAR
VERSION:2.0
PRODID:-//ChamberMaster//Event Calendar 2.0//EN
METHOD:PUBLISH
X-PUBLISHED-TTL:P3D
REFRESH-INTERVAL:P3D
CALSCALE:GREGORIAN
BEGIN:VEVENT
DTSTART:20181127T140000Z
DTEND:20181127T160000Z
X-MICROSOFT-CDO-ALLDAYEVENT:FALSE
SUMMARY:Coffee and CREAM
DESCRIPTION:READY\, SET\, GO....LIVE!\n\nPresenter\, Tammy Nobles.\n\nJoin us as we help you get ready\, get set and prepare you to go live!
X-ALT-DESC;FMTTYPE=text/html:READY\, SET\, GO....LIVE!<br />\nPresenter\, Tammy Nobles.<br />\nJoin us as we help you get ready\, get set and prepare you to go live!&nbsp\;&nbsp\;&nbsp\;&nbsp\;
LOCATION:Callaway Chamber of Commerce 510 Market St. Fulton MO 65251
UID:e.1836.10379
SEQUENCE:3
DTSTAMP:20260425T211307Z
URL:https://business.callawaychamber.net/events/details/coffee-and-cream-10379
END:VEVENT

END:VCALENDAR
