BEGIN:VCALENDAR
VERSION:2.0
PRODID:-//ChamberMaster//Event Calendar 2.0//EN
METHOD:PUBLISH
X-PUBLISHED-TTL:P3D
REFRESH-INTERVAL:P3D
CALSCALE:GREGORIAN
BEGIN:VEVENT
DTSTART:20200331T133000Z
DTEND:20200331T143000Z
X-MICROSOFT-CDO-ALLDAYEVENT:FALSE
SUMMARY:POSTPONED - Coffee with a Cop
DESCRIPTION:Join your community and business leaders in helping us\n\ncelebrate our local law enforcement officers over coffee &\n\nconversation.The donuts\, coffee\, and conversation are FREE and the event is open to the public.
X-ALT-DESC;FMTTYPE=text/html:Join your community and business leaders in helping us<br />\ncelebrate our local law enforcement officers over coffee &amp\;<br />\nconversation.The donuts\, coffee\, and conversation are FREE and the event is open to the public.
LOCATION:Chamber Office 510 Market Street Fulton\, MO
UID:e.1836.10676
SEQUENCE:3
DTSTAMP:20260424T193834Z
URL:https://business.callawaychamber.net/events/details/coffee-with-a-cop-10676
END:VEVENT

END:VCALENDAR
