BEGIN:VCALENDAR
VERSION:2.0
PRODID:-//ChamberMaster//Event Calendar 2.0//EN
METHOD:PUBLISH
X-PUBLISHED-TTL:P3D
REFRESH-INTERVAL:P3D
CALSCALE:GREGORIAN
BEGIN:VEVENT
DTSTART:20200602T140000Z
DTEND:20200602T150000Z
X-MICROSOFT-CDO-ALLDAYEVENT:FALSE
SUMMARY:Community Check-In
DESCRIPTION:Community Check-In
X-ALT-DESC;FMTTYPE=text/html:Community Check-In&nbsp\;&nbsp\;&nbsp\;&nbsp\;&nbsp\;&nbsp\;&nbsp\;&nbsp\;
LOCATION:Zoom
UID:e.1836.10695
SEQUENCE:3
DTSTAMP:20260424T151552Z
URL:https://business.callawaychamber.net/events/details/community-check-in-10695
END:VEVENT

END:VCALENDAR
