BEGIN:VCALENDAR
VERSION:2.0
PRODID:-//ChamberMaster//Event Calendar 2.0//EN
METHOD:PUBLISH
X-PUBLISHED-TTL:P3D
REFRESH-INTERVAL:P3D
CALSCALE:GREGORIAN
BEGIN:VEVENT
DTSTART:20191008T133000Z
DTEND:20191008T150000Z
X-MICROSOFT-CDO-ALLDAYEVENT:FALSE
SUMMARY:Conversation with Dick Davis
DESCRIPTION:Talk about owning a franchise and a business in general.  We will serve breakfast for those in attendance
X-ALT-DESC;FMTTYPE=text/html:<span style="font-family:calibri\,sans-serif\;"><span style="font-size:11.0pt\;">Talk about owning a franchise and a business in general.&nbsp\; We will serve breakfast for those in attendance</span></span>
LOCATION:Callaway Chamber of Commerce 510 Market Street Fulton MO 65251
UID:e.1836.10590
SEQUENCE:3
DTSTAMP:20260425T025415Z
URL:https://business.callawaychamber.net/events/details/conversation-with-dick-davis-10590
END:VEVENT

END:VCALENDAR
