BEGIN:VCALENDAR
VERSION:2.0
PRODID:-//ChamberMaster//Event Calendar 2.0//EN
METHOD:PUBLISH
X-PUBLISHED-TTL:P3D
REFRESH-INTERVAL:P3D
CALSCALE:GREGORIAN
BEGIN:VEVENT
DTSTART:20201017T153000Z
DTEND:20201017T210000Z
X-MICROSOFT-CDO-ALLDAYEVENT:FALSE
SUMMARY:Cornhole Tournament
DESCRIPTION:Missouri Girls Town is hosting a cornhole tournament at Fulton VFW on Oct 17th featuring pulled pork sandwich meals for $10. Carryouts available. Teams of 2 for $60 includes bottomless cup. Call Stephanie: 573-642-5345 or e-mail: svollmer@mogirlstown.org to register.
X-ALT-DESC;FMTTYPE=text/html:Missouri Girls Town is hosting a cornhole tournament at Fulton VFW on Oct 17th featuring pulled pork sandwich meals for $10. Carryouts available. Teams of 2 for $60 includes bottomless cup. Call Stephanie: 573-642-5345 or e-mail: svollmer@mogirlstown.org to register.
LOCATION:Fulton VFW on Collier Lane
UID:e.1836.10727
SEQUENCE:3
DTSTAMP:20260424T094102Z
URL:https://business.callawaychamber.net/events/details/cornhole-tournament-10-17-2020-10727
END:VEVENT

END:VCALENDAR
