BEGIN:VCALENDAR
VERSION:2.0
PRODID:-//ChamberMaster//Event Calendar 2.0//EN
METHOD:PUBLISH
X-PUBLISHED-TTL:P3D
REFRESH-INTERVAL:P3D
CALSCALE:GREGORIAN
BEGIN:VEVENT
DTSTART:20191019T160000Z
DTEND:20191019T230000Z
X-MICROSOFT-CDO-ALLDAYEVENT:FALSE
SUMMARY:Cornhole Tournament
DESCRIPTION:Cornhole Tournament Saturday\, Oct. 19th 2019 Cash Prize for 1st\, 2nd & 3rd Places Registration: 11am-12pm Bags Fly at 12:30pm $40 Per Team 50/50 Raffle\, Silent Auction and Concessions will be available.
X-ALT-DESC;FMTTYPE=text/html:Cornhole Tournament Saturday\, Oct. 19th 2019 Cash Prize for 1st\, 2nd &amp\; 3rd Places Registration: 11am-12pm Bags Fly at 12:30pm $40 Per Team 50/50 Raffle\, Silent Auction and Concessions will be available.
LOCATION:Fulton Medical Center (10 S. Hospital Drive\, Fulton\, MO 65251
UID:e.1836.10599
SEQUENCE:3
DTSTAMP:20260425T025342Z
URL:https://business.callawaychamber.net/events/details/cornhole-tournament-10599
END:VEVENT

END:VCALENDAR
