BEGIN:VCALENDAR
VERSION:2.0
PRODID:-//ChamberMaster//Event Calendar 2.0//EN
METHOD:PUBLISH
X-PUBLISHED-TTL:P3D
REFRESH-INTERVAL:P3D
CALSCALE:GREGORIAN
BEGIN:VEVENT
DTSTART:20191110T010000Z
DTEND:20191110T050000Z
X-MICROSOFT-CDO-ALLDAYEVENT:FALSE
SUMMARY:Country Comedy Show
DESCRIPTION:
X-ALT-DESC;FMTTYPE=text/html:
LOCATION:
UID:e.1836.10601
SEQUENCE:3
DTSTAMP:20260425T014018Z
URL:https://business.callawaychamber.net/events/details/country-comedy-show-10601
END:VEVENT

END:VCALENDAR
