BEGIN:VCALENDAR
VERSION:2.0
PRODID:-//ChamberMaster//Event Calendar 2.0//EN
METHOD:PUBLISH
X-PUBLISHED-TTL:P3D
REFRESH-INTERVAL:P3D
CALSCALE:GREGORIAN
BEGIN:VEVENT
DTSTART:20191213T150000Z
DTEND:20191213T210000Z
X-MICROSOFT-CDO-ALLDAYEVENT:FALSE
SUMMARY:Craft Championships
DESCRIPTION:BEYOND THE CLASSROOM. EXPLORE CONSTRUCTION. ABC Heart of America Apprenticeship & Training Trust will be showcasing the skills of top apprentices in Electrical\, Pipefitting and Plumbing with the 2019 ABC Heart of America Craft Championships. These apprentices will have completed a 2-hour written exam prior to the competition and will be participating in a 6-hour hands-on practical exam. Winners of this competition will go on to represent Kansas and Missouri at the ABC National Craft Championships in Nashville\, TN in March.\n\nWatch the craft competition\; participate in hand-on trade stations\; and talk one-on-one with industry professionals from a variety of local and regional general contractors and subcontractors
X-ALT-DESC;FMTTYPE=text/html:BEYOND THE CLASSROOM. EXPLORE CONSTRUCTION. ABC Heart of America Apprenticeship &amp\; Training Trust will be showcasing the skills of top apprentices in Electrical\, Pipefitting and Plumbing with the 2019 ABC Heart of America Craft Championships. These apprentices will have completed a 2-hour written exam prior to the competition and will be participating in a 6-hour hands-on practical exam. Winners of this competition will go on to represent Kansas and Missouri at the ABC National Craft Championships in Nashville\, TN in March.<br />\nWatch the craft competition\; participate in hand-on trade stations\; and talk one-on-one with industry professionals from a variety of local and regional general contractors and subcontractors
LOCATION:54 Country 400 Gaylord Drive Fulton MO
UID:e.1836.10611
SEQUENCE:3
DTSTAMP:20260424T235658Z
URL:https://business.callawaychamber.net/events/details/craft-championships-10611
END:VEVENT

END:VCALENDAR
