BEGIN:VCALENDAR
VERSION:2.0
PRODID:-//ChamberMaster//Event Calendar 2.0//EN
METHOD:PUBLISH
X-PUBLISHED-TTL:P3D
REFRESH-INTERVAL:P3D
CALSCALE:GREGORIAN
BEGIN:VEVENT
DTSTART:20200909T223000Z
DTEND:20200909T233000Z
X-MICROSOFT-CDO-ALLDAYEVENT:FALSE
SUMMARY:Creating a Business Plan A - Z with Jessie Yankee
DESCRIPTION:Creating a Business Plan: A to Z with Jessie Yankee
X-ALT-DESC;FMTTYPE=text/html:Creating a Business Plan: A to Z with Jessie Yankee
LOCATION:Zoom
UID:e.1836.10712
SEQUENCE:3
DTSTAMP:20260424T094333Z
URL:https://business.callawaychamber.net/events/details/creating-a-business-plan-a-z-with-jessie-yankee-10712
END:VEVENT

END:VCALENDAR
