BEGIN:VCALENDAR
VERSION:2.0
PRODID:-//ChamberMaster//Event Calendar 2.0//EN
METHOD:PUBLISH
X-PUBLISHED-TTL:P3D
REFRESH-INTERVAL:P3D
CALSCALE:GREGORIAN
BEGIN:VEVENT
DTSTART:20171104T120000Z
DTEND:20171104T190000Z
X-MICROSOFT-CDO-ALLDAYEVENT:FALSE
SUMMARY:CW Bazaar
DESCRIPTION:CW Bazaar\n\nBreakfast and lunch will be served until the food is gone.  Biscuits and gravy\, sweet rolls\, donuts\, soup\, sandwiches\, and homemade pie.  The hand quilted queen size quilt will be on display and raffled at 2:00pm\, lots of crafts\, silent auction items\, baked goods\, canned produce\, jellies\, jams and too many other items to mention.
X-ALT-DESC;FMTTYPE=text/html:CW Bazaar<br />\nBreakfast and lunch will be served until the food is gone.&nbsp\; Biscuits and gravy\, sweet rolls\, donuts\, soup\, sandwiches\, and homemade pie.&nbsp\; The hand quilted queen size quilt will be on display and raffled at 2:00pm\, lots of crafts\, silent auction items\, baked goods\, canned produce\, jellies\, jams and too many other items to mention.
LOCATION:Central Christian Church Fellowship Hall 4670 State Road KK Fulton\, MO 65251 573.642.3496
UID:e.1836.10231
SEQUENCE:3
DTSTAMP:20260421T235551Z
URL:https://business.callawaychamber.net/events/details/cw-bazaar-10231
END:VEVENT

END:VCALENDAR
