BEGIN:VCALENDAR
VERSION:2.0
PRODID:-//ChamberMaster//Event Calendar 2.0//EN
METHOD:PUBLISH
X-PUBLISHED-TTL:P3D
REFRESH-INTERVAL:P3D
CALSCALE:GREGORIAN
BEGIN:VEVENT
DTSTART:20201022T150000Z
DTEND:20201022T160000Z
X-MICROSOFT-CDO-ALLDAYEVENT:FALSE
SUMMARY:Cybersecurity Fundamentals for Protecting Your Electronic Networks
DESCRIPTION:It is National Cybersecurity Awareness Month and NCSAM continues to raise awareness about the importance of cybersecurity across our Nation\, ensuring that all Americans have the resources they need to be safer and more secure online.\n\nThis webinar\, hosted by Better Business Bureau Regional Director\, Michelle Gleba\, will cover ways you can protect your election enterprise and networks.
X-ALT-DESC;FMTTYPE=text/html:<div class="kvgmc6g5 cxmmr5t8 oygrvhab hcukyx3x c1et5uql" style="overflow-wrap: break-word\; margin: 0px\; font-family: &quot\;Segoe UI Historic&quot\;\, &quot\;Segoe UI&quot\;\, Helvetica\, Arial\, sans-serif\; color: rgb(5\, 5\, 5)\; font-size: 15px\;">It is National Cybersecurity Awareness Month and NCSAM continues to raise awareness about the importance of cybersecurity across our Nation\, ensuring that all Americans have the resources they need to be safer and more secure online.</div>\n\n<div class="o9v6fnle cxmmr5t8 oygrvhab hcukyx3x c1et5uql" style="overflow-wrap: break-word\; margin: 0.5em 0px 0px\; font-family: &quot\;Segoe UI Historic&quot\;\, &quot\;Segoe UI&quot\;\, Helvetica\, Arial\, sans-serif\; color: rgb(5\, 5\, 5)\; font-size: 15px\;">This webinar\, hosted by Better Business Bureau Regional Director\, Michelle Gleba\, will cover ways you can protect your election enterprise and networks.</div>\n
LOCATION:Zoom
UID:e.1836.10735
SEQUENCE:3
DTSTAMP:20260424T075557Z
URL:https://business.callawaychamber.net/events/details/cybersecurity-fundamentals-for-protecting-your-electronic-networks-10735
END:VEVENT

END:VCALENDAR
