BEGIN:VCALENDAR
VERSION:2.0
PRODID:-//ChamberMaster//Event Calendar 2.0//EN
METHOD:PUBLISH
X-PUBLISHED-TTL:P3D
REFRESH-INTERVAL:P3D
CALSCALE:GREGORIAN
BEGIN:VEVENT
DTSTART:20200515T140000Z
DTEND:20200515T150000Z
X-MICROSOFT-CDO-ALLDAYEVENT:FALSE
SUMMARY:Dealing with the emotional trauma of COVID-19
DESCRIPTION:The response to trauma whether physical or emotional is very individualized. But knowing the symptoms of trauma whether for ourselves or those around us can help us successfully move forward. Learn the signs and learn ideas on how to help others and ourselves as we heal.\n\n\n\nJoin us on Friday the 15th as Marty Martin-Forman\, owner of Martin-Forman Consulting LLC\, helps us learn the signs and ideas on how to helps others and ourselves heal during this time. \n\n\n\nFREE to attend through Zoom meeting platform. Please RSVP to Justis at marketing@callawaychamber.net to receive the link.
X-ALT-DESC;FMTTYPE=text/html:<span style="color: rgb(29\, 33\, 41)\; font-family: Helvetica\, Arial\, sans-serif\; font-size: 14px\; white-space: pre-wrap\;">The response to trauma whether physical or emotional is very individualized. But knowing the symptoms of trauma whether for ourselves or those around us can help us successfully move forward. Learn the signs and learn ideas on how to help others and ourselves as we heal.</span><br style="color: rgb(29\, 33\, 41)\; font-family: Helvetica\, Arial\, sans-serif\; font-size: 14px\; white-space: pre-wrap\;" />\n<br style="color: rgb(29\, 33\, 41)\; font-family: Helvetica\, Arial\, sans-serif\; font-size: 14px\; white-space: pre-wrap\;" />\n<span style="color: rgb(29\, 33\, 41)\; font-family: Helvetica\, Arial\, sans-serif\; font-size: 14px\; white-space: pre-wrap\;">Join us on Friday the 15th as Marty Martin-Forman\, owner of Martin-Forman Consulting LLC\, helps us learn the signs and ideas on how to helps others and ourselves heal during this time. </span><br style="color: rgb(29\, 33\, 41)\; font-family: Helvetica\, Arial\, sans-serif\; font-size: 14px\; white-space: pre-wrap\;" />\n<br style="color: rgb(29\, 33\, 41)\; font-family: Helvetica\, Arial\, sans-serif\; font-size: 14px\; white-space: pre-wrap\;" />\n<span style="color: rgb(29\, 33\, 41)\; font-family: Helvetica\, Arial\, sans-serif\; font-size: 14px\; white-space: pre-wrap\;">FREE to attend through Zoom meeting platform. Please RSVP to Justis at marketing@callawaychamber.net to receive the link. </span>
LOCATION:Zoom Meeting
UID:e.1836.10687
SEQUENCE:3
DTSTAMP:20260424T164339Z
URL:https://business.callawaychamber.net/events/details/dealing-with-the-emotional-trauma-of-covid-19-10687
END:VEVENT

END:VCALENDAR
