BEGIN:VCALENDAR
VERSION:2.0
PRODID:-//ChamberMaster//Event Calendar 2.0//EN
METHOD:PUBLISH
X-PUBLISHED-TTL:P3D
REFRESH-INTERVAL:P3D
CALSCALE:GREGORIAN
BEGIN:VEVENT
DTSTART:20210920T130000Z
DTEND:20210924T190000Z
X-MICROSOFT-CDO-ALLDAYEVENT:FALSE
SUMMARY:Dress Clothes Drive
DESCRIPTION:Jobs for America's Graduates program is in Fulton Public Schools and North Callaway School District. This program helps students who face barriers such as poverty\, challenging family situations\, and a history of personal trauma recognize and unleash their potential by ensuring they graduate from high school and are ready to move into college\, military service\, or a career.\n\n \n\nAt its core\, JAG is both a school-dropout prevention program and a school-to-work program\, thus helping JAG-Missouri address the workforce development needs of the state. Through this drive\, we will provide the students with the attire they need for interviews and to enter the workforce.
X-ALT-DESC;FMTTYPE=text/html:<p class="_04xlpA direction-ltr align-center para-style-body" style="line-height: 1.4\; font-family: &quot\;YADipAVbvww 0&quot\;\, _fb_\, auto\; font-size: 39.7379px\; color: rgb(41\, 61\, 109)\;"><span style="font-family:arial\;"><span style="font-size:12px\;"><span class="JsGRdQ">Jobs for America&#39\;s Graduates program is in Fulton Public Schools and North Callaway School District.</span><span class="JsGRdQ white-space-prewrap"> </span><span class="JsGRdQ">This program helps students who face barriers such as poverty\, challenging family situations\, and a history of personal trauma recognize and unleash their potential by ensuring they graduate from high school and are ready to move into college\, military service\, or a career.</span></span></span></p>\n\n<p class="_04xlpA direction-ltr align-center para-style-body" style="line-height: 1.4\; font-family: &quot\;YADipAVbvww 0&quot\;\, _fb_\, auto\; font-size: 12px\; color: rgb(41\, 61\, 109)\;">&nbsp\;</p>\n\n<p class="_04xlpA direction-ltr align-center para-style-body" style="line-height: 1.4\; font-family: &quot\;YADipAVbvww 0&quot\;\, _fb_\, auto\; font-size: 39.7379px\; color: rgb(41\, 61\, 109)\;"><span style="font-family:arial\;"><span style="font-size:12px\;"><span class="JsGRdQ">At its core\, JAG is both a school-dropout prevention program and a school-to-work program\, thus helping JAG-Missouri address the workforce development needs of the state. </span><span class="JsGRdQ" style="font-weight: 700\;">Through this drive\, we will provide the students with the attire they need for interviews and to enter the workforce.</span></span></span></p>\n
LOCATION:Drop off at Callaway Chamber of Commerce 510 Market Street
UID:e.1836.10888
SEQUENCE:3
DTSTAMP:20260424T164109Z
URL:https://business.callawaychamber.net/events/details/dress-clothes-drive-10888
END:VEVENT

END:VCALENDAR
