BEGIN:VCALENDAR
VERSION:2.0
PRODID:-//ChamberMaster//Event Calendar 2.0//EN
METHOD:PUBLISH
X-PUBLISHED-TTL:P3D
REFRESH-INTERVAL:P3D
CALSCALE:GREGORIAN
BEGIN:VEVENT
DTSTART:20170624T150000Z
DTEND:20170624T200000Z
X-MICROSOFT-CDO-ALLDAYEVENT:FALSE
SUMMARY:Drive to Survive
DESCRIPTION:Come and join us for the 4th Annual Drive to Survive Car and Bike show benefiting the American Foundation for Suicide Prevention. All money received will go to AFSP\, with 50% staying in the chapter in hopes of creating awareness\, funds for continued research\, and funds to provide education and prevention to our schools and youth who may be vulnerable to considering suicide or dealing with the loss of a loved one due to suicide.
X-ALT-DESC;FMTTYPE=text/html:Come and join us for the 4th Annual Drive to Survive Car and Bike show benefiting the American Foundation for Suicide Prevention. All money received will go to AFSP\, with 50% staying in the chapter in hopes of creating awareness\, funds for continued research\, and funds to provide education and prevention to our schools and youth who may be vulnerable to considering suicide or dealing with the loss of a loved one due to suicide.
LOCATION:Fulton Ford 1200 S Us Hwy 54 Fulton\, Mo 65251
UID:e.1836.10198
SEQUENCE:3
DTSTAMP:20260425T222117Z
URL:https://business.callawaychamber.net/events/details/drive-to-survive-10198
END:VEVENT

END:VCALENDAR
