BEGIN:VCALENDAR
VERSION:2.0
PRODID:-//ChamberMaster//Event Calendar 2.0//EN
METHOD:PUBLISH
X-PUBLISHED-TTL:P3D
REFRESH-INTERVAL:P3D
CALSCALE:GREGORIAN
BEGIN:VEVENT
DTSTART:20180623T000000Z
DTEND:20180623T030000Z
X-MICROSOFT-CDO-ALLDAYEVENT:FALSE
SUMMARY:Dueling Pianos
DESCRIPTION:Tickets can be purchased by calling (573) 896-9966 or at the door
X-ALT-DESC;FMTTYPE=text/html:Tickets can be purchased by calling (573) 896-9966 or at the door
LOCATION:Canterbury Hill Winery
UID:e.1836.10293
SEQUENCE:3
DTSTAMP:20260423T084905Z
URL:https://business.callawaychamber.net/events/details/dueling-pianos-10293
END:VEVENT

END:VCALENDAR
