BEGIN:VCALENDAR
VERSION:2.0
PRODID:-//ChamberMaster//Event Calendar 2.0//EN
METHOD:PUBLISH
X-PUBLISHED-TTL:P3D
REFRESH-INTERVAL:P3D
CALSCALE:GREGORIAN
BEGIN:VEVENT
DTSTART:20180922T000000Z
DTEND:20180922T030000Z
X-MICROSOFT-CDO-ALLDAYEVENT:FALSE
SUMMARY:Dueling Pianos
DESCRIPTION:Dueling Pianos\n\nTickets can be purchased by calling (573) 896-9966 or at the door
X-ALT-DESC;FMTTYPE=text/html:Dueling Pianos<br />\nTickets can be purchased by calling (573) 896-9966 or at the door&nbsp\;&nbsp\;&nbsp\;&nbsp\;
LOCATION:Canterbury Hill Winery
UID:e.1836.10295
SEQUENCE:3
DTSTAMP:20260426T004737Z
URL:https://business.callawaychamber.net/events/details/dueling-pianos-10295
END:VEVENT

END:VCALENDAR
