BEGIN:VCALENDAR
VERSION:2.0
PRODID:-//ChamberMaster//Event Calendar 2.0//EN
METHOD:PUBLISH
X-PUBLISHED-TTL:P3D
REFRESH-INTERVAL:P3D
CALSCALE:GREGORIAN
BEGIN:VEVENT
DTSTART:20181020T000000Z
DTEND:20181020T030000Z
X-MICROSOFT-CDO-ALLDAYEVENT:FALSE
SUMMARY:Dueling Pianos
DESCRIPTION:Dueling Pianos\n\nTickets can be purchased in advance by calling (573) 896-9966 or at the door
X-ALT-DESC;FMTTYPE=text/html:Dueling Pianos<br />\nTickets can be purchased in advance by calling (573) 896-9966 or at the door
LOCATION:Canterbury Hill Winery
UID:e.1836.10296
SEQUENCE:3
DTSTAMP:20260425T230205Z
URL:https://business.callawaychamber.net/events/details/dueling-pianos-10296
END:VEVENT

END:VCALENDAR
