BEGIN:VCALENDAR
VERSION:2.0
PRODID:-//ChamberMaster//Event Calendar 2.0//EN
METHOD:PUBLISH
X-PUBLISHED-TTL:P3D
REFRESH-INTERVAL:P3D
CALSCALE:GREGORIAN
BEGIN:VEVENT
DTSTART:20211109T143000Z
DTEND:20211109T153000Z
X-MICROSOFT-CDO-ALLDAYEVENT:FALSE
SUMMARY:Employee Retention Credit
DESCRIPTION:Join native Callawegian Rebecca Knipp\, CPA\, as she discusses some of the basics of the Employee Retention Credit.  She will discuss who qualifies for this valuable payroll tax credit and how businesses can capitalize on this refundable credit.  Qualified businesses typically are entitled to credits worth many thousands of dollars.  Join us in this short Zoom presentation to see if your business qualifies and ensure you aren't leaving valuable tax credit dollars on the table.
X-ALT-DESC;FMTTYPE=text/html:Join native Callawegian Rebecca Knipp\, CPA\, as she discusses some of the basics of the Employee Retention Credit.&nbsp\; She will discuss who qualifies for this valuable payroll tax credit and how businesses can capitalize on this refundable credit. &nbsp\;Qualified businesses typically are entitled to credits worth many thousands of dollars.&nbsp\; Join us in this short Zoom presentation to see if your business qualifies and ensure you aren&rsquo\;t leaving valuable tax credit dollars on the table.
LOCATION:via Zoom
UID:e.1836.10926
SEQUENCE:3
DTSTAMP:20260424T194115Z
URL:https://business.callawaychamber.net/events/details/employee-retention-credit-10926
END:VEVENT

END:VCALENDAR
