BEGIN:VCALENDAR
VERSION:2.0
PRODID:-//ChamberMaster//Event Calendar 2.0//EN
METHOD:PUBLISH
X-PUBLISHED-TTL:P3D
REFRESH-INTERVAL:P3D
CALSCALE:GREGORIAN
BEGIN:VEVENT
DTSTART:20200302T150000Z
DTEND:20200302T180000Z
X-MICROSOFT-CDO-ALLDAYEVENT:FALSE
SUMMARY:EXCEL Training: Beginner's Guide
DESCRIPTION:Need help with EXCEL? Then this training is for you!  Join us in learning the basics of EXCEL and also learning new tips and tricks to simplify your next project!
X-ALT-DESC;FMTTYPE=text/html:Need help with EXCEL? Then this training is for you!&nbsp\; Join us in learning the basics of EXCEL and also learning new tips and tricks to simplify your next project!&nbsp\;
LOCATION:Chamber of Commerce 510 Market Street Fulton\, MO 65251
UID:e.1836.10667
SEQUENCE:3
DTSTAMP:20260424T193727Z
URL:https://business.callawaychamber.net/events/details/excel-training-beginner-s-guide-10667
END:VEVENT

END:VCALENDAR
