BEGIN:VCALENDAR
VERSION:2.0
PRODID:-//ChamberMaster//Event Calendar 2.0//EN
METHOD:PUBLISH
X-PUBLISHED-TTL:P3D
REFRESH-INTERVAL:P3D
CALSCALE:GREGORIAN
BEGIN:VEVENT
DTSTART:20201014T150000Z
DTEND:20201014T160000Z
X-MICROSOFT-CDO-ALLDAYEVENT:FALSE
SUMMARY:FADF Marketing Recovery Grant for Small Businesses Webinar
DESCRIPTION:FADF Marketing Recovery Grant for Small Businesses Webinar
X-ALT-DESC;FMTTYPE=text/html:FADF Marketing Recovery Grant for Small Businesses Webinar
LOCATION:Zoom
UID:e.1836.10729
SEQUENCE:3
DTSTAMP:20260424T080646Z
URL:https://business.callawaychamber.net/events/details/fadf-marketing-recovery-grant-for-small-businesses-webinar-10729
END:VEVENT

END:VCALENDAR
