BEGIN:VCALENDAR
VERSION:2.0
PRODID:-//ChamberMaster//Event Calendar 2.0//EN
METHOD:PUBLISH
X-PUBLISHED-TTL:P3D
REFRESH-INTERVAL:P3D
CALSCALE:GREGORIAN
BEGIN:VEVENT
DTSTART:20200923T220000Z
DTEND:20200923T230000Z
X-MICROSOFT-CDO-ALLDAYEVENT:FALSE
SUMMARY:Financial Planning For Your Business with Diane Buchli
DESCRIPTION:Join us as ProAcct Financial Advantage Owner\, Diane Buchli\, goes over the financial planning you need for your business. Diane will be discussing business budgeting and the importance of financial statements in your business.\n\nPlease RSVP to Shane at businessrelations@callawaychamber.net
X-ALT-DESC;FMTTYPE=text/html:<div class="kvgmc6g5 cxmmr5t8 oygrvhab hcukyx3x c1et5uql" style="overflow-wrap: break-word\; margin: 0px\; font-family: &quot\;Segoe UI Historic&quot\;\, &quot\;Segoe UI&quot\;\, Helvetica\, Arial\, sans-serif\; color: rgb(5\, 5\, 5)\; font-size: 15px\;">Join us as ProAcct Financial Advantage Owner\, Diane Buchli\, goes over the financial planning you need for your business. Diane will be discussing business budgeting and the importance of financial statements in your business.</div>\n\n<div class="o9v6fnle cxmmr5t8 oygrvhab hcukyx3x c1et5uql" style="overflow-wrap: break-word\; margin: 0.5em 0px 0px\; font-family: &quot\;Segoe UI Historic&quot\;\, &quot\;Segoe UI&quot\;\, Helvetica\, Arial\, sans-serif\; color: rgb(5\, 5\, 5)\; font-size: 15px\;">Please RSVP to Shane at businessrelations@callawaychamber.net</div>\n
LOCATION:Zoom
UID:e.1836.10720
SEQUENCE:3
DTSTAMP:20260424T113401Z
URL:https://business.callawaychamber.net/events/details/financial-planning-for-your-business-with-diane-buchli-10720
END:VEVENT

END:VCALENDAR
