BEGIN:VCALENDAR
VERSION:2.0
PRODID:-//ChamberMaster//Event Calendar 2.0//EN
METHOD:PUBLISH
X-PUBLISHED-TTL:P3D
REFRESH-INTERVAL:P3D
CALSCALE:GREGORIAN
BEGIN:VEVENT
DTSTART:20200521T140000Z
DTEND:20200521T150000Z
X-MICROSOFT-CDO-ALLDAYEVENT:FALSE
SUMMARY:Food\, Mood\, & Movement: Keeping Healthy During COVID19
DESCRIPTION:As we are finding ways to cope during the pandemic and some sort of "new normal"\, many of our regular schedules are a thing of the past.  Our changed routines leave many of us with changes to our eating habits\, exercise routines\, and stress levels.  Increased stress levels also cause us to be tired\, moody\, and craving sweet\, salty foods.  Let's navigate together for some quick tips to boost your energy\, immune system\, and overall health. Amanda Gowin\, professor of Health and Exercise Science at Westminster College\, will provide some easy ways to rethink our stay-at-home food and exercise routines.
X-ALT-DESC;FMTTYPE=text/html:<span class="JsGRdQ" style="color: rgb(0\, 0\, 0)\;">As we are finding ways to cope during the pandemic and some sort of &quot\;new normal&quot\;\, many of our regular schedules are a thing of the past.&nbsp\; Our changed routines leave many of us with changes to our eating habits\, exercise routines\, and stress levels.&nbsp\; Increased stress levels also cause us to be tired\, moody\, and craving sweet\, salty foods.&nbsp\; Let&#39\;s navigate together for some quick tips to boost your energy\, immune system\, and overall health. Amanda Gowin\, professor of Health and Exercise Science at Westminster College\, will provide some easy ways to rethink our stay-at-home food and exercise routines.</span>
LOCATION:Zoom Meeting
UID:e.1836.10690
SEQUENCE:3
DTSTAMP:20260424T164421Z
URL:https://business.callawaychamber.net/events/details/food-mood-movement-keeping-healthy-during-covid19-10690
END:VEVENT

END:VCALENDAR
