BEGIN:VCALENDAR
VERSION:2.0
PRODID:-//ChamberMaster//Event Calendar 2.0//EN
METHOD:PUBLISH
X-PUBLISHED-TTL:P3D
REFRESH-INTERVAL:P3D
CALSCALE:GREGORIAN
BEGIN:VEVENT
DTSTART:20190316T230000Z
DTEND:20190317T010000Z
X-MICROSOFT-CDO-ALLDAYEVENT:FALSE
SUMMARY:FPSF GALA
DESCRIPTION:Fulton Public Scools Foundation GALA
X-ALT-DESC;FMTTYPE=text/html:Fulton Public Scools Foundation GALA
LOCATION:Backer Dining Hall-Westminster College
UID:e.1836.10513
SEQUENCE:3
DTSTAMP:20260425T142139Z
URL:https://business.callawaychamber.net/events/details/fpsf-gala-10513
END:VEVENT

END:VCALENDAR
