BEGIN:VCALENDAR
VERSION:2.0
PRODID:-//ChamberMaster//Event Calendar 2.0//EN
METHOD:PUBLISH
X-PUBLISHED-TTL:P3D
REFRESH-INTERVAL:P3D
CALSCALE:GREGORIAN
BEGIN:VEVENT
DTSTART:20200513T130000Z
DTEND:20200513T140000Z
X-MICROSOFT-CDO-ALLDAYEVENT:FALSE
SUMMARY:Fulton Brick District Board Meeting
DESCRIPTION:Fulton Brick District Board Meeting
X-ALT-DESC;FMTTYPE=text/html:Fulton Brick District Board Meeting
LOCATION:Brick District Playhouse Fulton\, MO
UID:e.1836.11497
SEQUENCE:3
DTSTAMP:20260424T164109Z
URL:https://business.callawaychamber.net/events/details/fulton-brick-district-board-meeting-05-13-2020-11497
END:VEVENT

END:VCALENDAR
