BEGIN:VCALENDAR
VERSION:2.0
PRODID:-//ChamberMaster//Event Calendar 2.0//EN
METHOD:PUBLISH
X-PUBLISHED-TTL:P3D
REFRESH-INTERVAL:P3D
CALSCALE:GREGORIAN
BEGIN:VEVENT
DTSTART:20191218T220000Z
DTEND:20191218T230000Z
X-MICROSOFT-CDO-ALLDAYEVENT:FALSE
SUMMARY:Fulton Public School Foundation
DESCRIPTION:FPSF Social
X-ALT-DESC;FMTTYPE=text/html:FPSF Social
LOCATION:Callaway Chamber office
UID:e.1836.10651
SEQUENCE:3
DTSTAMP:20260424T235626Z
URL:https://business.callawaychamber.net/events/details/fulton-public-school-foundation-10651
END:VEVENT

END:VCALENDAR
