BEGIN:VCALENDAR
VERSION:2.0
PRODID:-//ChamberMaster//Event Calendar 2.0//EN
METHOD:PUBLISH
X-PUBLISHED-TTL:P3D
REFRESH-INTERVAL:P3D
CALSCALE:GREGORIAN
BEGIN:VEVENT
DTSTART:20201009T130000Z
DTEND:20201009T190000Z
X-MICROSOFT-CDO-ALLDAYEVENT:FALSE
SUMMARY:Fulton Public Schools Foundation 2nd Annual Golf Tournament
DESCRIPTION:Fulton Public Schools Foundation 2nd Annual Golf Tournament Friday\, October 9\, 2020 Fulton Country Club 8 AM   2 PM For more information email exdir@FultonSchoolsFoundation.org or go to http://fultonschoolsfoundation.org/ Entry fee to tournament $100 individual/$400 team of 4
X-ALT-DESC;FMTTYPE=text/html:Fulton Public Schools Foundation 2nd Annual Golf Tournament Friday\, October 9\, 2020 Fulton Country Club 8 AM &ndash\; 2 PM For more information email exdir@FultonSchoolsFoundation.org or go to http://fultonschoolsfoundation.org/ Entry fee to tournament $100 individual/$400 team of 4
LOCATION:Fulton Country Club
UID:e.1836.10657
SEQUENCE:3
DTSTAMP:20260424T094414Z
URL:https://business.callawaychamber.net/events/details/fulton-public-schools-foundation-2nd-annual-golf-tournament-10657
END:VEVENT

END:VCALENDAR
