BEGIN:VCALENDAR
VERSION:2.0
PRODID:-//ChamberMaster//Event Calendar 2.0//EN
METHOD:PUBLISH
X-PUBLISHED-TTL:P3D
REFRESH-INTERVAL:P3D
CALSCALE:GREGORIAN
BEGIN:VEVENT
DTSTART:20200314T220000Z
DTEND:20200315T013000Z
X-MICROSOFT-CDO-ALLDAYEVENT:FALSE
SUMMARY:Fulton Public Schools Foundation Gala
DESCRIPTION:Event to honor Fulton Public School Hall of Fame Alumni and Educators.
X-ALT-DESC;FMTTYPE=text/html:Event to honor Fulton Public School Hall of Fame Alumni and Educators.
LOCATION:Backer Dining Hall Westminster College\, Fulton\, MO
UID:e.1836.10656
SEQUENCE:3
DTSTAMP:20260424T084325Z
URL:https://business.callawaychamber.net/events/details/fulton-public-schools-foundation-gala-10656
END:VEVENT

END:VCALENDAR
