BEGIN:VCALENDAR
VERSION:2.0
PRODID:-//ChamberMaster//Event Calendar 2.0//EN
METHOD:PUBLISH
X-PUBLISHED-TTL:P3D
REFRESH-INTERVAL:P3D
CALSCALE:GREGORIAN
BEGIN:VEVENT
DTSTART:20191026T190000Z
DTEND:20191027T000000Z
X-MICROSOFT-CDO-ALLDAYEVENT:FALSE
SUMMARY:Fulton Rotary Bowling Classic
DESCRIPTION:Whether you can bowl a 300 game\, or throw mostly gutter balls\, the Rotary Club of Fulton invites you to participate in the Fulton Rotary Bowling Classic. Proceeds from "Bowling for Bucks" will help Rotary raise money to benefit charitable work in the community. There will be side pots and brackets\, a 50-50 raffle and a silent auction\, too.
X-ALT-DESC;FMTTYPE=text/html:Whether you can bowl a 300 game\, or throw mostly gutter balls\, the Rotary Club of Fulton invites you to participate in the Fulton Rotary Bowling Classic. Proceeds from &quot\;Bowling for Bucks&quot\; will help Rotary raise money to benefit charitable work in the community. There will be side pots and brackets\, a 50-50 raffle and a silent auction\, too.
LOCATION:Fulton Bowling Center\, 530 Commons Dr.
UID:e.1836.10597
SEQUENCE:3
DTSTAMP:20260425T025533Z
URL:https://business.callawaychamber.net/events/details/fulton-rotary-bowling-classic-10597
END:VEVENT

END:VCALENDAR
