BEGIN:VCALENDAR
VERSION:2.0
PRODID:-//ChamberMaster//Event Calendar 2.0//EN
METHOD:PUBLISH
X-PUBLISHED-TTL:P3D
REFRESH-INTERVAL:P3D
CALSCALE:GREGORIAN
BEGIN:VEVENT
DTSTART:20190302T000000Z
DTEND:20190302T020000Z
X-MICROSOFT-CDO-ALLDAYEVENT:FALSE
SUMMARY:Fulton Rotary Mouse Races
DESCRIPTION:Fulton Rotary Mouse Races
X-ALT-DESC;FMTTYPE=text/html:Fulton Rotary Mouse Races&nbsp\;&nbsp\;&nbsp\;&nbsp\;
LOCATION:The Rotary Club of Fulton will hold its fifth annual Callaway Cup Mouse Races at 6 p.m. March 1 at the Brick District Playhouse in Fulton. Proceeds will benefit the proposed George Washington Carver Cultural Center. Mardi Gras is the theme and a Cajun-style meal will be served. Single admission tickets for the family-friendly event are $20\; children 12 and under are $10. Sponsorships also are available. Mouse betting\, a silent auction\, photo booth\, kids' crafts and raffles are planned. For more information\, go to www.fultonrotary-mo.org.
UID:e.1836.10537
SEQUENCE:3
DTSTAMP:20260425T142238Z
URL:https://business.callawaychamber.net/events/details/fulton-rotary-mouse-races-10537
END:VEVENT

END:VCALENDAR
