BEGIN:VCALENDAR
VERSION:2.0
PRODID:-//ChamberMaster//Event Calendar 2.0//EN
METHOD:PUBLISH
X-PUBLISHED-TTL:P3D
REFRESH-INTERVAL:P3D
CALSCALE:GREGORIAN
BEGIN:VEVENT
DTSTART;VALUE=DATE:20200626
DTEND;VALUE=DATE:20200628
TRANSP:TRANSPARENT
X-MICROSOFT-CDO-ALLDAYEVENT:TRUE
SUMMARY:Fulton Street Fair
DESCRIPTION:Fulton Street Fair
X-ALT-DESC;FMTTYPE=text/html:Fulton Street Fair&nbsp\;&nbsp\;&nbsp\;&nbsp\;
LOCATION:Brick District
UID:e.1836.10610
SEQUENCE:3
DTSTAMP:20260424T164053Z
URL:https://business.callawaychamber.net/events/details/fulton-street-fair-10610
END:VEVENT

END:VCALENDAR
