BEGIN:VCALENDAR
VERSION:2.0
PRODID:-//ChamberMaster//Event Calendar 2.0//EN
METHOD:PUBLISH
X-PUBLISHED-TTL:P3D
REFRESH-INTERVAL:P3D
CALSCALE:GREGORIAN
BEGIN:VEVENT
DTSTART:20191009T210000Z
DTEND:20191009T230000Z
X-MICROSOFT-CDO-ALLDAYEVENT:FALSE
SUMMARY:Garden Dish Class - Women's Networking
DESCRIPTION:Learn how to plant\, arrange and care for your succulent garden in the beautiful gazebo at the Loganberry Inn.  Cost is $35 and covers all plants and supplies to make one succulent dish garden.  You can bring a bottle of wine and snacks to share as well.
X-ALT-DESC;FMTTYPE=text/html:Learn how to plant\, arrange and care for your succulent garden in the beautiful gazebo at the Loganberry Inn.&nbsp\; Cost is $35 and covers all plants and supplies to make one succulent dish garden.&nbsp\; You can bring a bottle of wine and snacks to share as well.
LOCATION:Loganberry Inn 310 W. 7th St. Fulton MO 65251
UID:e.1836.10596
SEQUENCE:3
DTSTAMP:20260425T025628Z
URL:https://business.callawaychamber.net/events/details/garden-dish-class-women-s-networking-10596
END:VEVENT

END:VCALENDAR
