BEGIN:VCALENDAR
VERSION:2.0
PRODID:-//ChamberMaster//Event Calendar 2.0//EN
METHOD:PUBLISH
X-PUBLISHED-TTL:P3D
REFRESH-INTERVAL:P3D
CALSCALE:GREGORIAN
BEGIN:VEVENT
DTSTART:20210923T230000Z
DTEND:20210924T000000Z
X-MICROSOFT-CDO-ALLDAYEVENT:FALSE
SUMMARY:Grief Support Group
DESCRIPTION:Help and encouragement after the death of a loved one.  GriefShare is a special weekly seminar and support group designed to help you rebuild your life.  We know it hurts\, and we want to help.
X-ALT-DESC;FMTTYPE=text/html:Help and encouragement after the death of a loved one.&nbsp\; GriefShare is a special weekly seminar and support group designed to help you rebuild your life.&nbsp\; We know it hurts\, and we want to help.&nbsp\;
LOCATION:Southside Baptist Church Beginning Sept. 16th at 6:00 p.m. For more information and to register\, Contact: Maryann 573-489-4477 or Ron 573-590-2018
UID:e.1836.10903
SEQUENCE:3
DTSTAMP:20260424T163950Z
URL:https://business.callawaychamber.net/events/details/grief-support-group-09-23-2021-10903
END:VEVENT

END:VCALENDAR
