BEGIN:VCALENDAR
VERSION:2.0
PRODID:-//ChamberMaster//Event Calendar 2.0//EN
METHOD:PUBLISH
X-PUBLISHED-TTL:P3D
REFRESH-INTERVAL:P3D
CALSCALE:GREGORIAN
BEGIN:VEVENT
DTSTART:20200616T140000Z
DTEND:20200616T150000Z
X-MICROSOFT-CDO-ALLDAYEVENT:FALSE
SUMMARY:Groundbreaking - Rooster Creek
DESCRIPTION:Join us for the groundbreaking ceremony for Rooster Creek's new store in New Bloomfield.
X-ALT-DESC;FMTTYPE=text/html:Join us for the groundbreaking ceremony for Rooster Creek&#39\;s new store in New Bloomfield.&nbsp\;
LOCATION:10417 Old US Hwy 54\, New Bloomfield\, MO 65063
UID:e.1836.10699
SEQUENCE:3
DTSTAMP:20260424T151130Z
URL:https://business.callawaychamber.net/events/details/groundbreaking-rooster-creek-10699
END:VEVENT

END:VCALENDAR
