BEGIN:VCALENDAR
VERSION:2.0
PRODID:-//ChamberMaster//Event Calendar 2.0//EN
METHOD:PUBLISH
X-PUBLISHED-TTL:P3D
REFRESH-INTERVAL:P3D
CALSCALE:GREGORIAN
BEGIN:VEVENT
DTSTART:20201031T160000Z
DTEND:20201031T180000Z
X-MICROSOFT-CDO-ALLDAYEVENT:FALSE
SUMMARY:Halloween at Churchill Shopping Centre
DESCRIPTION:Trunk or Treat with Giveaways and Candy and fun for all ages!
X-ALT-DESC;FMTTYPE=text/html:Trunk or Treat with Giveaways and Candy and fun for all ages!&nbsp\;&nbsp\;
LOCATION:Churchill Shopping Centre Where Shoe Sensation\, Factory Connection\, & Cleeks are located Churchill Center\, 1865 N Bluff St\, Fulton\, MO 65251
UID:e.1836.10745
SEQUENCE:3
DTSTAMP:20260424T075926Z
URL:https://business.callawaychamber.net/events/details/halloween-at-churchill-shopping-centre-10745
END:VEVENT

END:VCALENDAR
