BEGIN:VCALENDAR
VERSION:2.0
PRODID:-//ChamberMaster//Event Calendar 2.0//EN
METHOD:PUBLISH
X-PUBLISHED-TTL:P3D
REFRESH-INTERVAL:P3D
CALSCALE:GREGORIAN
BEGIN:VEVENT
DTSTART:20200116T233000Z
DTEND:20200221T023000Z
X-MICROSOFT-CDO-ALLDAYEVENT:FALSE
SUMMARY:Heart of Missouri CASA training
DESCRIPTION:Start 2020 off with a bang by becoming a CASA volunteer! WE want YOU to be that voice that makes a huge impact for a child in foster care. Our next training class begins on Thursday\,January 16th. Please click the link below for the application and we will be in touch after receiving the application. https://mo-heartofmissouri.evintosolutions.com/VolunteerApp
X-ALT-DESC;FMTTYPE=text/html:Start 2020 off with a bang by becoming a CASA volunteer! WE want YOU to be that voice that makes a huge impact for a child in foster care. Our next training class begins on Thursday\,January 16th. Please click the link below for the application and we will be in touch after receiving the application. https://mo-heartofmissouri.evintosolutions.com/VolunteerApp&hellip\;
LOCATION:Heart of Missouri CASA office 105 East Ash St\, Suite 102 Columbia\, MO 65203
UID:e.1836.10607
SEQUENCE:3
DTSTAMP:20260424T224218Z
URL:https://business.callawaychamber.net/events/details/heart-of-missouri-casa-training-10607
END:VEVENT

END:VCALENDAR
