BEGIN:VCALENDAR
VERSION:2.0
PRODID:-//ChamberMaster//Event Calendar 2.0//EN
METHOD:PUBLISH
X-PUBLISHED-TTL:P3D
REFRESH-INTERVAL:P3D
CALSCALE:GREGORIAN
BEGIN:VEVENT
DTSTART:20200808T170000Z
DTEND:20200808T230000Z
X-MICROSOFT-CDO-ALLDAYEVENT:FALSE
SUMMARY:Heart of Missouri Gospel Sing
DESCRIPTION:A fun day of southern gospel music with 6 groups performing from throughout the Midwest. Free admission. Lots of room for kids to play. Concessions on site Bring your lawn chair. Sponsored By Forman Ministries
X-ALT-DESC;FMTTYPE=text/html:A fun day of southern gospel music with 6 groups performing from throughout the Midwest. Free admission. Lots of room for kids to play. Concessions on site Bring your lawn chair. Sponsored By Forman Ministries
LOCATION:Harmony Hills Campground Rt. O Fulton\, MO
UID:e.1836.10668
SEQUENCE:3
DTSTAMP:20260424T133256Z
URL:https://business.callawaychamber.net/events/details/heart-of-missouri-gospel-sing-08-08-2020-10668
END:VEVENT

END:VCALENDAR
