BEGIN:VCALENDAR
VERSION:2.0
PRODID:-//ChamberMaster//Event Calendar 2.0//EN
METHOD:PUBLISH
X-PUBLISHED-TTL:P3D
REFRESH-INTERVAL:P3D
CALSCALE:GREGORIAN
BEGIN:VEVENT
DTSTART:20180811T170000Z
DTEND:20180811T230000Z
X-MICROSOFT-CDO-ALLDAYEVENT:FALSE
SUMMARY:Heart of Missouri Gospel Sing
DESCRIPTION:Great southern gospel singing by six different groups from throughout the mid-west. Family friendly\, lots of room for kids to play\, concessions on site. Bring your lawn chair.
X-ALT-DESC;FMTTYPE=text/html:Great southern gospel singing by six different groups from throughout the mid-west. Family friendly\, lots of room for kids to play\, concessions on site. Bring your lawn chair.
LOCATION:Harmony Hill Campgrounds 8033 Rt. O Fulton\, MO
UID:e.1836.10326
SEQUENCE:3
DTSTAMP:20260426T024052Z
URL:https://business.callawaychamber.net/events/details/heart-of-missouri-gospel-sing-10326
END:VEVENT

END:VCALENDAR
