BEGIN:VCALENDAR
VERSION:2.0
PRODID:-//ChamberMaster//Event Calendar 2.0//EN
METHOD:PUBLISH
X-PUBLISHED-TTL:P3D
REFRESH-INTERVAL:P3D
CALSCALE:GREGORIAN
BEGIN:VEVENT
DTSTART:20191215T000000Z
DTEND:20191215T050000Z
X-MICROSOFT-CDO-ALLDAYEVENT:FALSE
SUMMARY:Home Grown Holidays w/ the Kay Brothers
DESCRIPTION:
X-ALT-DESC;FMTTYPE=text/html:
LOCATION:Brick District Playhouse 613 Court St. Fulton MO 65251
UID:e.1836.10602
SEQUENCE:3
DTSTAMP:20260425T000158Z
URL:https://business.callawaychamber.net/events/details/home-grown-holidays-w-the-kay-brothers-10602
END:VEVENT

END:VCALENDAR
