BEGIN:VCALENDAR
VERSION:2.0
PRODID:-//ChamberMaster//Event Calendar 2.0//EN
METHOD:PUBLISH
X-PUBLISHED-TTL:P3D
REFRESH-INTERVAL:P3D
CALSCALE:GREGORIAN
BEGIN:VEVENT
DTSTART:20201212T000000Z
DTEND:20201212T020000Z
X-MICROSOFT-CDO-ALLDAYEVENT:FALSE
SUMMARY:HSCBA Drive-In Movie & Pizza
DESCRIPTION:$30 in advance. $40 at the gate - price is per car\n\nIncludes Movie\, 1 large single topping pizza and 4 cans of soda\n\nPopcorn and soda available for purchase\n\nRegister here: https://formsmarts.com/form/25ee?fbclid=IwAR1Z8KzjYjG66xtMVlU2jCLxAks-f2E7st3GweSX58dBcJ0QefB7Tt3Tm5Q
X-ALT-DESC;FMTTYPE=text/html:$30 in advance. $40 at the gate - price is per car<br />\nIncludes Movie\, 1 large single topping pizza and 4 cans of soda<br />\nPopcorn and soda available for purchase<br />\nRegister here:&nbsp\;https://formsmarts.com/form/25ee?fbclid=IwAR1Z8KzjYjG66xtMVlU2jCLxAks-f2E7st3GweSX58dBcJ0QefB7Tt3Tm5Q
LOCATION:Holts Summit Civic Center
UID:e.1836.10755
SEQUENCE:3
DTSTAMP:20260424T044233Z
URL:https://business.callawaychamber.net/events/details/hscba-drive-in-movie-pizza-10755
END:VEVENT

END:VCALENDAR
