BEGIN:VCALENDAR
VERSION:2.0
PRODID:-//ChamberMaster//Event Calendar 2.0//EN
METHOD:PUBLISH
X-PUBLISHED-TTL:P3D
REFRESH-INTERVAL:P3D
CALSCALE:GREGORIAN
BEGIN:VEVENT
DTSTART:20200619T170000Z
DTEND:20200619T210000Z
X-MICROSOFT-CDO-ALLDAYEVENT:FALSE
SUMMARY:IMS Community Shred
DESCRIPTION:It's time to clean out those drawers and file cabinets! IMS\, in partnership with the Callaway Chamber of Commerce\, will have bins set up at Memorial Park Friday\, June 19th from 12-4 PM for a FREE community shred. We invite all individuals in Callaway County to safely and securely dispose of documents that may contain confidential information. Please note that we cannot accept binders\, books\, cardboard or magazines.
X-ALT-DESC;FMTTYPE=text/html:<span style="color: rgb(29\, 33\, 41)\; font-family: Helvetica\, Arial\, sans-serif\; font-size: 14px\; white-space: pre-wrap\;">It&#39\;s time to clean out those drawers and file cabinets! IMS\, in partnership with the Callaway Chamber of Commerce\, will have bins set up at Memorial Park Friday\, June 19th from 12-4 PM for a FREE community shred. We invite all individuals in Callaway County to safely and securely dispose of documents that may contain confidential information. Please note that we cannot accept binders\, books\, cardboard or magazines.</span>
LOCATION:Memorial Park
UID:e.1836.10698
SEQUENCE:3
DTSTAMP:20260424T150936Z
URL:https://business.callawaychamber.net/events/details/ims-community-shred-10698
END:VEVENT

END:VCALENDAR
