BEGIN:VCALENDAR
VERSION:2.0
PRODID:-//ChamberMaster//Event Calendar 2.0//EN
METHOD:PUBLISH
X-PUBLISHED-TTL:P3D
REFRESH-INTERVAL:P3D
CALSCALE:GREGORIAN
BEGIN:VEVENT
DTSTART:20200429T150000Z
DTEND:20200429T160000Z
X-MICROSOFT-CDO-ALLDAYEVENT:FALSE
SUMMARY:Instagram for Business Basics
DESCRIPTION:Your online presence is so more important than ever right now and if you have extra time in your business\, maybe it is time to expand your online presence through setting up your Instagram account.  Instagram is a great way to reach a different demographic with more personal content.  Whether you can an Instagram account already or you wanting to set one up\, this class will cover the basics of having an Instagram account for your business. This class will be question heavy so think about those questions you have with your account and bring those with you!
X-ALT-DESC;FMTTYPE=text/html:Your online presence is so more important than ever right now and if you have extra time in your business\, maybe it is time to expand your online presence through setting up your Instagram account.&nbsp\; Instagram is a great way to reach a different demographic with more personal content.&nbsp\; Whether you can an Instagram account already or you wanting to set one up\, this class will cover the basics of having an Instagram account for your business. This class will be question heavy so think about those questions you have with your account and bring those with you!
LOCATION:Zoom meeting
UID:e.1836.10682
SEQUENCE:3
DTSTAMP:20260424T182009Z
URL:https://business.callawaychamber.net/events/details/instagram-for-business-basics-10682
END:VEVENT

END:VCALENDAR
