BEGIN:VCALENDAR
VERSION:2.0
PRODID:-//ChamberMaster//Event Calendar 2.0//EN
METHOD:PUBLISH
X-PUBLISHED-TTL:P3D
REFRESH-INTERVAL:P3D
CALSCALE:GREGORIAN
BEGIN:VEVENT
DTSTART:20191207T150000Z
DTEND:20191207T160000Z
X-MICROSOFT-CDO-ALLDAYEVENT:FALSE
SUMMARY:Jingle Bell 5K Run/Walk
DESCRIPTION:5K run/walk and costume contest. Proceeds to support Kingdom Christian Academy and Heart of Missouri CASA.
X-ALT-DESC;FMTTYPE=text/html:5K run/walk and costume contest. Proceeds to support Kingdom Christian Academy and Heart of Missouri CASA.
LOCATION:Memorial Park. Run will be on the Stinson Creek Trail.
UID:e.1836.10615
SEQUENCE:3
DTSTAMP:20260424T235754Z
URL:https://business.callawaychamber.net/events/details/jingle-bell-5k-run-walk-10615
END:VEVENT

END:VCALENDAR
