BEGIN:VCALENDAR
VERSION:2.0
PRODID:-//ChamberMaster//Event Calendar 2.0//EN
METHOD:PUBLISH
X-PUBLISHED-TTL:P3D
REFRESH-INTERVAL:P3D
CALSCALE:GREGORIAN
BEGIN:VEVENT
DTSTART:20200526T150000Z
DTEND:20200526T151500Z
X-MICROSOFT-CDO-ALLDAYEVENT:FALSE
SUMMARY:Journaling Jumpstart with Beth
DESCRIPTION:As we learned during our webinar with Marty Martin-Forman\, journaling can be a great release and help us maintain our mental health. 1canoe2 owner\, Beth Snyder\, will go over great ways to journal and different tips and tricks to create mindfullness while journaling.\n\n\n\nNever journaled before? No problem! Class is open to those who haven't journaled a day in their life or journal every day! Join us for tips and tricks to being mindful in journaling during COVID-19.  Bring a notebook with you to begin your journaling journey
X-ALT-DESC;FMTTYPE=text/html:<span class="JsGRdQ" style="color: rgb(0\, 0\, 0)\;">As we learned during our webinar with Marty Martin-Forman\, journaling can be a great release and help us maintain our mental health.</span><span class="JsGRdQ white-space-prewrap" style="color: rgb(0\, 0\, 0)\;"> </span><span class="JsGRdQ" style="color: rgb(0\, 0\, 0)\;">1canoe2 owner\, Beth Snyder\, will go over great ways to journal and different tips and tricks to create mindfullness while journaling.</span><br />\n<br />\n<span class="JsGRdQ" style="color: rgb(0\, 0\, 0)\;">Never journaled before? No problem!</span><span class="JsGRdQ white-space-prewrap" style="color: rgb(0\, 0\, 0)\;"> </span><span class="JsGRdQ" style="color: rgb(0\, 0\, 0)\;">Class is open to those who haven&#39\;t journaled a day in their life or journal every day!</span><span class="JsGRdQ white-space-prewrap" style="color: rgb(0\, 0\, 0)\;"> </span><span class="JsGRdQ" style="color: rgb(0\, 0\, 0)\;">Join us for tips and tricks to being mindful in journaling during COVID-19.&nbsp\; Bring a notebook with you to begin your journaling journey</span>
LOCATION:Zoom
UID:e.1836.10691
SEQUENCE:3
DTSTAMP:20260424T164000Z
URL:https://business.callawaychamber.net/events/details/journaling-jumpstart-with-beth-10691
END:VEVENT

END:VCALENDAR
