BEGIN:VCALENDAR
VERSION:2.0
PRODID:-//ChamberMaster//Event Calendar 2.0//EN
METHOD:PUBLISH
X-PUBLISHED-TTL:P3D
REFRESH-INTERVAL:P3D
CALSCALE:GREGORIAN
BEGIN:VEVENT
DTSTART:20170816T190000Z
DTEND:20170816T220000Z
X-MICROSOFT-CDO-ALLDAYEVENT:FALSE
SUMMARY:Just Ask - Education Series
DESCRIPTION:Just Ask Education Series - Wondering if senior living is right for you? Meet campus residents and employees and find out how peace of mind and security can enhance your quality of life at Fulton Presbyterian Manor.
X-ALT-DESC;FMTTYPE=text/html:Just Ask Education Series - Wondering if senior living is right for you? Meet campus residents and employees and find out how peace of mind and security can enhance your quality of life at Fulton Presbyterian Manor.&nbsp\;&nbsp\;&nbsp\;&nbsp\;
LOCATION:Fulton Presbyterian Manor Conference Room 811 Center Street Fulton MO 65251
UID:e.1836.10218
SEQUENCE:3
DTSTAMP:20260423T055758Z
URL:https://business.callawaychamber.net/events/details/just-ask-education-series-10218
END:VEVENT

END:VCALENDAR
