BEGIN:VCALENDAR
VERSION:2.0
PRODID:-//ChamberMaster//Event Calendar 2.0//EN
METHOD:PUBLISH
X-PUBLISHED-TTL:P3D
REFRESH-INTERVAL:P3D
CALSCALE:GREGORIAN
BEGIN:VEVENT
DTSTART:20171031T223000Z
DTEND:20171101T000000Z
X-MICROSOFT-CDO-ALLDAYEVENT:FALSE
SUMMARY:Kids Fest
DESCRIPTION:Kids Fest - First Baptist Church\n\nGames\, Candy\, Hot Dogs\, Drinks
X-ALT-DESC;FMTTYPE=text/html:Kids Fest - First Baptist Church<br />\nGames\, Candy\, Hot Dogs\, Drinks&nbsp\;&nbsp\;&nbsp\;&nbsp\;
LOCATION:First Baptist Church 701 Court St. Fulton MO 65251
UID:e.1836.10236
SEQUENCE:3
DTSTAMP:20260421T173006Z
URL:https://business.callawaychamber.net/events/details/kids-fest-10236
END:VEVENT

END:VCALENDAR
