BEGIN:VCALENDAR
VERSION:2.0
PRODID:-//ChamberMaster//Event Calendar 2.0//EN
METHOD:PUBLISH
X-PUBLISHED-TTL:P3D
REFRESH-INTERVAL:P3D
CALSCALE:GREGORIAN
BEGIN:VEVENT
DTSTART:20201031T191500Z
DTEND:20201031T223000Z
X-MICROSOFT-CDO-ALLDAYEVENT:FALSE
SUMMARY:Kids Fest 2020
DESCRIPTION:KIDS FEST IS COMING OCTOBER 31ST!\n\nCome join us for a great time! This is a free community event that will be filled with games\, activities\, and of course candy! Due to Covid-19 this year we will be having time slots to experience the fun with limited attendance in each time slot.\n\nGuest times are 2:00-2:45pm\, 3:15-4:00pm\, and 4:30-5:15pm.\n\nWe also are taking extra precautions with workers wearing masks and gloves and encouraging social distancing.\n\nGuests will register at the event.\n\nIf you're a part of FBC and would like to help with Kids Fest you can sign up here! https://www.fbcfultonmo.org/kids-fest-registration
X-ALT-DESC;FMTTYPE=text/html:<div class="kvgmc6g5 cxmmr5t8 oygrvhab hcukyx3x c1et5uql" style="overflow-wrap: break-word\; margin: 0px\; font-family: &quot\;Segoe UI Historic&quot\;\, &quot\;Segoe UI&quot\;\, Helvetica\, Arial\, sans-serif\; color: rgb(5\, 5\, 5)\; font-size: 15px\;">KIDS FEST IS COMING OCTOBER 31ST!<br />\nCome join us for a great time! This is a free community event that will be filled with games\, activities\, and of course candy! Due to Covid-19 this year we will be having time slots to experience the fun with limited attendance in each time slot.</div>\n\n<div class="o9v6fnle cxmmr5t8 oygrvhab hcukyx3x c1et5uql" style="overflow-wrap: break-word\; margin: 0.5em 0px 0px\; font-family: &quot\;Segoe UI Historic&quot\;\, &quot\;Segoe UI&quot\;\, Helvetica\, Arial\, sans-serif\; color: rgb(5\, 5\, 5)\; font-size: 15px\;">Guest times are 2:00-2:45pm\, 3:15-4:00pm\, and 4:30-5:15pm.</div>\n\n<div class="o9v6fnle cxmmr5t8 oygrvhab hcukyx3x c1et5uql" style="overflow-wrap: break-word\; margin: 0.5em 0px 0px\; font-family: &quot\;Segoe UI Historic&quot\;\, &quot\;Segoe UI&quot\;\, Helvetica\, Arial\, sans-serif\; color: rgb(5\, 5\, 5)\; font-size: 15px\;">We also are taking extra precautions with workers wearing masks and gloves and encouraging social distancing.</div>\n\n<div class="o9v6fnle cxmmr5t8 oygrvhab hcukyx3x c1et5uql" style="overflow-wrap: break-word\; margin: 0.5em 0px 0px\; font-family: &quot\;Segoe UI Historic&quot\;\, &quot\;Segoe UI&quot\;\, Helvetica\, Arial\, sans-serif\; color: rgb(5\, 5\, 5)\; font-size: 15px\;">Guests will register at the event.</div>\n\n<div class="o9v6fnle cxmmr5t8 oygrvhab hcukyx3x c1et5uql" style="overflow-wrap: break-word\; margin: 0.5em 0px 0px\; font-family: &quot\;Segoe UI Historic&quot\;\, &quot\;Segoe UI&quot\;\, Helvetica\, Arial\, sans-serif\; color: rgb(5\, 5\, 5)\; font-size: 15px\;">If you&#39\;re a part of FBC and would like to help with Kids Fest you can sign up here!&nbsp\;<a class="oajrlxb2 g5ia77u1 qu0x051f esr5mh6w e9989ue4 r7d6kgcz rq0escxv nhd2j8a9 nc684nl6 p7hjln8o kvgmc6g5 cxmmr5t8 oygrvhab hcukyx3x jb3vyjys rz4wbd8a qt6c0cv9 a8nywdso i1ao9s8h esuyzwwr f1sip0of lzcic4wl py34i1dx gpro0wi8" href="https://www.fbcfultonmo.org/kids-fest-registration?fbclid=IwAR3FBB5RUPV2VjyzcInd1idb8asCIbTH3HjfN9E4IyJ_JxTi06Zq4ZYT3ok" rel="nofollow noopener" role="link" style="color: var(--blue-link)\; cursor: pointer\; text-decoration-line: none\; outline: none\; list-style: none\; border-width: 0px\; border-style: initial\; border-color: initial\; padding: 0px\; margin: 0px\; touch-action: manipulation\; background-color: transparent\; text-align: inherit\; display: inline\; -webkit-tap-highlight-color: transparent\; box-sizing: border-box\; font-family: inherit\;" tabindex="0" target="_blank">https://www.fbcfultonmo.org/kids-fest-registration</a></div>\n
LOCATION:701 Court Street\, Fulton
UID:e.1836.10752
SEQUENCE:3
DTSTAMP:20260424T094011Z
URL:https://business.callawaychamber.net/events/details/kids-fest-2020-10752
END:VEVENT

END:VCALENDAR
