BEGIN:VCALENDAR
VERSION:2.0
PRODID:-//ChamberMaster//Event Calendar 2.0//EN
METHOD:PUBLISH
X-PUBLISHED-TTL:P3D
REFRESH-INTERVAL:P3D
CALSCALE:GREGORIAN
BEGIN:VEVENT
DTSTART:20201031T154500Z
DTEND:20201031T231500Z
X-MICROSOFT-CDO-ALLDAYEVENT:FALSE
SUMMARY:Kids Halloween With Ohana
DESCRIPTION:Here at Ohana Pizzeria\, we LOVE Halloween. The decorating has been taking place all month long. On Halloween we will have a table with a few crafts\, games\, and a goodie bag for our favorite little ghouls and goblins. Come celebrate with us anytime between open 10:30am - 6pm.\n\nAlso\, anytime between now and Halloween\, come by to participate in our Pumpkin Coloring Contest! Winners will be chosen on Halloween.
X-ALT-DESC;FMTTYPE=text/html:<div class="kvgmc6g5 cxmmr5t8 oygrvhab hcukyx3x c1et5uql" style="overflow-wrap: break-word\; margin: 0px\; font-family: &quot\;Segoe UI Historic&quot\;\, &quot\;Segoe UI&quot\;\, Helvetica\, Arial\, sans-serif\; color: rgb(5\, 5\, 5)\; font-size: 15px\;">Here at Ohana Pizzeria\, we LOVE Halloween. The decorating has been taking place all month long. On Halloween we will have a table with a few crafts\, games\, and a goodie bag for our favorite little ghouls and goblins. Come celebrate with us anytime between open 10:30am - 6pm.</div>\n\n<div class="o9v6fnle cxmmr5t8 oygrvhab hcukyx3x c1et5uql" style="overflow-wrap: break-word\; margin: 0.5em 0px 0px\; font-family: &quot\;Segoe UI Historic&quot\;\, &quot\;Segoe UI&quot\;\, Helvetica\, Arial\, sans-serif\; color: rgb(5\, 5\, 5)\; font-size: 15px\;">Also\, anytime between now and Halloween\, come by to participate in our Pumpkin Coloring Contest! Winners will be chosen on Halloween.</div>\n
LOCATION:Ohana Pizzeria 61 W 2nd Street\, Fulton
UID:e.1836.10750
SEQUENCE:3
DTSTAMP:20260424T080435Z
URL:https://business.callawaychamber.net/events/details/kids-halloween-with-ohana-10750
END:VEVENT

END:VCALENDAR
